BEGIN:VCALENDAR
VERSION:2.0
PRODID:-//Department Of Education//ccde5adb-942e-4c7f-8044-3440c1823e3c
BEGIN:VTIMEZONE
TZID:Australia/Sydney
TZURL:http://tzurl.org/zoneinfo-outlook/Australia/Sydney
X-LIC-LOCATION:Australia/Sydney
BEGIN:STANDARD
TZOFFSETFROM:+1100
TZOFFSETTO:+1000
TZNAME:AEST
DTSTART:19700405T030000
RRULE:FREQ=YEARLY;BYMONTH=4;BYDAY=1SU
END:STANDARD
BEGIN:DAYLIGHT
TZOFFSETFROM:+1000
TZOFFSETTO:+1100
TZNAME:AEDT
DTSTART:19701004T020000
RRULE:FREQ=YEARLY;BYMONTH=10;BYDAY=1SU
END:DAYLIGHT
END:VTIMEZONE
CALSCALE:GREGORIAN
X-WR-TIMEZONE:Australia/Sydney
BEGIN:VEVENT
DTSTART;TZID=Australia/Sydney:20191015T152000
DTEND;TZID=Australia/Sydney:20191015T170000
DTSTAMP:20191015T000000Z
UID:cfaa5f9d-7391-41fd-9160-3e96f37aa1f9
LOCATION:Library / learning Centre
SUMMARY;LANGUAGE=en-us:Homework Club
RRULE:FREQ=WEEKLY;INTERVAL=1;UNTIL=20201015;
SEQUENCE:0
DESCRIPTION:Homework Club is held every Tuesday during the school term. Students recieve help understanding their work, assessment tasks and preparing for exams. We provide food and drink to keep your brain fueled and ready to learn. Staff can drop off students home after Homework Club. See ALC or Front office staff for a permision note.
END:VEVENT
TRANSP:TRANSPARENT
END:VCALENDAR
